BEGIN:VCALENDAR
VERSION:2.0
PRODID:-//Τρίκαλα | trikalaevents.gr - Όλα τα Τρίκαλα σε μια σελίδα - ECPv6.15.16//NONSGML v1.0//EN
CALSCALE:GREGORIAN
METHOD:PUBLISH
X-ORIGINAL-URL:https://trikalaevents.gr
X-WR-CALDESC:Events for Τρίκαλα | trikalaevents.gr - Όλα τα Τρίκαλα σε μια σελίδα
REFRESH-INTERVAL;VALUE=DURATION:PT1H
X-Robots-Tag:noindex
X-PUBLISHED-TTL:PT1H
BEGIN:VTIMEZONE
TZID:Europe/Helsinki
BEGIN:DAYLIGHT
TZOFFSETFROM:+0200
TZOFFSETTO:+0300
TZNAME:EEST
DTSTART:20230326T010000
END:DAYLIGHT
BEGIN:STANDARD
TZOFFSETFROM:+0300
TZOFFSETTO:+0200
TZNAME:EET
DTSTART:20231029T010000
END:STANDARD
BEGIN:DAYLIGHT
TZOFFSETFROM:+0200
TZOFFSETTO:+0300
TZNAME:EEST
DTSTART:20240331T010000
END:DAYLIGHT
BEGIN:STANDARD
TZOFFSETFROM:+0300
TZOFFSETTO:+0200
TZNAME:EET
DTSTART:20241027T010000
END:STANDARD
BEGIN:DAYLIGHT
TZOFFSETFROM:+0200
TZOFFSETTO:+0300
TZNAME:EEST
DTSTART:20250330T010000
END:DAYLIGHT
BEGIN:STANDARD
TZOFFSETFROM:+0300
TZOFFSETTO:+0200
TZNAME:EET
DTSTART:20251026T010000
END:STANDARD
END:VTIMEZONE
BEGIN:VEVENT
DTSTART;TZID=Europe/Helsinki:20240914T213000
DTEND;TZID=Europe/Helsinki:20240914T233000
DTSTAMP:20260421T151836
CREATED:20240824T064947Z
LAST-MODIFIED:20240824T064947Z
UID:10000427-1726349400-1726356600@trikalaevents.gr
SUMMARY:Ο Αλκίνοος Ιωαννίδης στα Τρίκαλα!
DESCRIPTION:Σαββατο 14 Σεπτεμβρίου – Τρικαλα\n\nΗ επανένωση της ιστορικής μπάντας του Αλκίνοου Ιωαννίδη αποτέλεσε ένα μεγάλο καλλιτεχνικό γεγονός. Είκοσι τέσσερα χρόνια μετά τις πρώτες τους κοινές εμφανίσεις και της ηχογράφησης του live album ΕΚΤΟΣ ΤΟΠΟΥ ΚΑΙ ΧΡΟΝΟΥ\, οι σπουδαίοι μουσικοί συνεχίζουν και αυτό το καλοκαίρι τις εμφανίσεις τους σε ιδιαίτερους χώρους και φεστιβάλ\, παρουσιάζοντας ένα πρόγραμμα γεμάτο δημιουργικότητα\, συγκίνηση και ενέργεια.\n\nΈνα πρόγραμμα γεμάτο από αγαπημένα τραγούδια\, απρόσμενες διασκευές\, αυτοσχεδιασμό και επικοινωνία.\nΜια ηλεκτρική γιορτή μέσα στα δύσκολα της εποχής μας\, μια ολοζώντανη επιβεβαίωση της σχέσης μεταξύ των μουσικών και του κοινού\, μια πολύτιμη μοιρασιά ψυχής που όλοι χρειαζόμαστε.\n\n«Δεν νοσταλγούμε το παρελθόν\, ζητούμε το παρόν! Παίζουμε ξανά μαζί γιατί λείψαμε ο ένας στον άλλον\, μουσικά και ανθρώπινα. Και γιατί μας λείψατε!»\n\nΣταύρος Λάντσιας: πλήκτραΜιλτιάδης Παπαστάμου: ηλεκτρικό βιολίΓιώτης Κιουρτσόγλου: ηλεκτρικό μπάσοΜιχάλης Καπηλίδης: τύμπαναΑλκίνοος Ιωαννίδης: ηλεκτρική κιθάρα\, φωνήΗχοληψία: Βαγγέλης Λάππας – Βασίλης ΔρούγκαςΣχεδιασμός φωτισμών: Μαρία ΒενετάκηΠαραγωγή: RollOutVision ServicesΕπιμέλεια παραγωγής: Αθύρ\nΔιοργάνωση : Liapeace Spectacular Shows – J2 Art Group
URL:https://trikalaevents.gr/event/o-alkinoos-ioannidis-sta-trikala/
LOCATION:Μύλος Ματσόπουλου\, Κλείνου 10\, Τρίκαλα\, Θεσσαλία\, 42100\, Ελλάδα
CATEGORIES:Live
ATTACH;FMTTYPE=image/jpeg:https://trikalaevents.gr/wp-content/uploads/2024/08/alkinoostrikala.jpg
END:VEVENT
END:VCALENDAR